BEGIN:VCALENDAR
VERSION:2.0
PRODID:-//destination.one//NONSGML destination.meta API//DE
X-WR-CALDESC:A calendar powered by destination.meta
X-WR-CALNAME:naturpark-moor Kalender via destination.meta
BEGIN:VEVENT
CATEGORIES:Kultur
CATEGORIES:Theater\, Musik & Show
DESCRIPTION:\n\nmehr Informationen unter http://pages.destination.one/de/na
 turpark-moor/streaming/detail/Event/e_101255550/concert-royal-k-ln
DTEND;TZID=Europe/Berlin:20261002T211500
DTSTAMP:20260420T222723Z
DTSTART;TZID=Europe/Berlin:20261002T200000
GEO:52.689050;7.290750
LOCATION:Propsteikirche St. Vitus\, Kuhstraße 44\, Meppen
ORGANIZER;CN=Theatergemeinde Meppen e.V.:mailto:info@theatergemeinde-meppen
 .de
SEQUENCE:0
SUMMARY:Concert Royal Köln
UID:e_101255550_iv0
URL:http://pages.destination.one/de/naturpark-moor/streaming/detail/Event/e
 _101255550/concert-royal-k-ln
END:VEVENT
BEGIN:VTIMEZONE
TZID:Europe/Berlin
X-LIC-LOCATION:Europe/Berlin
BEGIN:DAYLIGHT
DTSTART:19700329T020000
RRULE:FREQ=YEARLY;BYDAY=-1SU;BYMONTH=3
TZNAME:CEST
TZOFFSETFROM:+0100
TZOFFSETTO:+0200
END:DAYLIGHT
BEGIN:STANDARD
DTSTART:19701025T030000
RRULE:FREQ=YEARLY;BYDAY=-1SU;BYMONTH=10
TZNAME:CET
TZOFFSETFROM:+0200
TZOFFSETTO:+0100
END:STANDARD
END:VTIMEZONE
END:VCALENDAR
