BEGIN:VCALENDAR
VERSION:2.0
PRODID:-//destination.one//NONSGML destination.meta API//DE
X-WR-CALDESC:A calendar powered by destination.meta
X-WR-CALNAME:naturpark-moor Kalender via destination.meta
BEGIN:VEVENT
CATEGORIES:Kultur
DESCRIPTION:\n\nmehr Informationen unter http://pages.destination.one/de/na
 turpark-moor/streaming/detail/Event/e_101260850/er-ffnung-der-graphic-nove
 l-ausstellung-picturing-the-unimaginable
DTEND;TZID=Europe/Berlin:20260517T170000
DTSTAMP:20260424T142547Z
DTSTART;TZID=Europe/Berlin:20260517T150000
GEO:53.008612;7.641120
LOCATION:Gedenkstätte Esterwegen\, Hinterm Busch 1\, Esterwegen
ORGANIZER;CN=Gedenkstätte Esterwegen:mailto:info@gedenkstaette-esterwegen.d
 e
SEQUENCE:0
SUMMARY:Eröffnung der Graphic-Novel-Ausstellung „Picturing the Unimaginable
 “ 
UID:e_101260850_iv0
URL:http://pages.destination.one/de/naturpark-moor/streaming/detail/Event/e
 _101260850/er-ffnung-der-graphic-novel-ausstellung-picturing-the-unimagina
 ble
END:VEVENT
BEGIN:VTIMEZONE
TZID:Europe/Berlin
X-LIC-LOCATION:Europe/Berlin
BEGIN:DAYLIGHT
DTSTART:19700329T020000
RRULE:FREQ=YEARLY;BYDAY=-1SU;BYMONTH=3
TZNAME:CEST
TZOFFSETFROM:+0100
TZOFFSETTO:+0200
END:DAYLIGHT
BEGIN:STANDARD
DTSTART:19701025T030000
RRULE:FREQ=YEARLY;BYDAY=-1SU;BYMONTH=10
TZNAME:CET
TZOFFSETFROM:+0200
TZOFFSETTO:+0100
END:STANDARD
END:VTIMEZONE
END:VCALENDAR
